BEGIN:VCALENDAR
VERSION:2.0
PRODID:-//eventon.com NONSGML v1.0//EN
CALSCALE:GREGORIAN
METHOD:PUBLISH
BEGIN:VEVENT
UID:69ea3aa5ccc4d
DTSTAMP:20260423T152837Z
DTSTART:20240424
DTEND:20240425
LOCATION:
SUMMARY:Heartfulness Institute (Fremont\,  CA)
DESCRIPTION:Heartfulness Institute (Fremont\,  CA)\nhttps://chasingchildhoo
 ddoc.com/events/heartfulness-institute-fremont-ca-2/
URL:https://chasingchildhooddoc.com/events/heartfulness-institute-fremont-ca-2/
END:VEVENT
END:VCALENDAR