BEGIN:VCALENDAR
VERSION:2.0
PRODID:-//eventon.com NONSGML v1.0//EN
CALSCALE:GREGORIAN
METHOD:PUBLISH
BEGIN:VEVENT
UID:69ea3af87099e
DTSTAMP:20260423T153000Z
DTSTART:20240418
DTEND:20240419
LOCATION:
SUMMARY:Lake Forest Elementary (Greenville\,  SC)
DESCRIPTION:Lake Forest Elementary (Greenville\,  SC)\nhttps://chasingchild
 hooddoc.com/events/lake-forest-elementary-greenville-sc-2/
URL:https://chasingchildhooddoc.com/events/lake-forest-elementary-greenville-sc-2/
END:VEVENT
END:VCALENDAR