BEGIN:VCALENDAR
VERSION:2.0
PRODID:-//eventon.com NONSGML v1.0//EN
CALSCALE:GREGORIAN
METHOD:PUBLISH
BEGIN:VEVENT
UID:69ea39da8f1ab
DTSTAMP:20260423T152514Z
DTSTART:20240418
DTEND:20240419
LOCATION:
SUMMARY:The Village School (Arlington\,  VA)
DESCRIPTION:The Village School (Arlington\,  VA)\nhttps://chasingchildhoodd
 oc.com/events/the-village-school-arlington-va-2/
URL:https://chasingchildhooddoc.com/events/the-village-school-arlington-va-2/
END:VEVENT
END:VCALENDAR