BEGIN:VCALENDAR
VERSION:2.0
PRODID:-//eventon.com NONSGML v1.0//EN
CALSCALE:GREGORIAN
METHOD:PUBLISH
BEGIN:VEVENT
UID:69ea3b00cb39a
DTSTAMP:20260423T153008Z
DTSTART:20240410
DTEND:20240411
LOCATION:
SUMMARY:Ivy Tech Community College-Lafayette (Lafayette\,  IN)
DESCRIPTION:Ivy Tech Community College-Lafayette (Lafayette\,  IN)\nhttps:/
 /chasingchildhooddoc.com/events/ivy-tech-community-college-lafayette-lafaye
 tte-in-2/
URL:https://chasingchildhooddoc.com/events/ivy-tech-community-college-lafayette-lafayette-in-2/
END:VEVENT
END:VCALENDAR