BEGIN:VCALENDAR
VERSION:2.0
PRODID:-//eventon.com NONSGML v1.0//EN
CALSCALE:GREGORIAN
METHOD:PUBLISH
BEGIN:VEVENT
UID:69ea3ad4365bc
DTSTAMP:20260423T152924Z
DTSTART:20240404
DTEND:20240405
LOCATION:
SUMMARY:Aldinga Payinthi College (Australia)
DESCRIPTION:Aldinga Payinthi College (Australia)\nhttps://chasingchildhoodd
 oc.com/events/aldinga-payinthi-college-australia/
URL:https://chasingchildhooddoc.com/events/aldinga-payinthi-college-australia/
END:VEVENT
END:VCALENDAR