BEGIN:VCALENDAR
VERSION:2.0
PRODID:-//eventon.com NONSGML v1.0//EN
CALSCALE:GREGORIAN
METHOD:PUBLISH
BEGIN:VEVENT
UID:69ea3a7a33235
DTSTAMP:20260423T152754Z
DTSTART:20240319
DTEND:20240320
LOCATION:
SUMMARY:SAU 39 - Amherst\,  Mont Vernon\,  Souhegan (Amherst\,  MA)
DESCRIPTION:SAU 39 - Amherst\,  Mont Vernon\,  Souhegan (Amherst\,  MA)\nht
 tps://chasingchildhooddoc.com/events/sau-39-amherst-mont-vernon-souhegan-am
 herst-ma/
URL:https://chasingchildhooddoc.com/events/sau-39-amherst-mont-vernon-souhegan-amherst-ma/
END:VEVENT
END:VCALENDAR