BEGIN:VCALENDAR
VERSION:2.0
PRODID:-//eventon.com NONSGML v1.0//EN
CALSCALE:GREGORIAN
METHOD:PUBLISH
BEGIN:VEVENT
UID:69ea3b44a24b4
DTSTAMP:20260423T153116Z
DTSTART:20240305
DTEND:20240306
LOCATION:
SUMMARY:The Harker School (San Jose\,  CA)
DESCRIPTION:The Harker School (San Jose\,  CA)\nhttps://chasingchildhooddoc
 .com/events/the-harker-school-san-jose-ca-3/
URL:https://chasingchildhooddoc.com/events/the-harker-school-san-jose-ca-3/
END:VEVENT
END:VCALENDAR