BEGIN:VCALENDAR
VERSION:2.0
PRODID:-//eventon.com NONSGML v1.0//EN
CALSCALE:GREGORIAN
METHOD:PUBLISH
BEGIN:VEVENT
UID:69ea3af1118b6
DTSTAMP:20260423T152953Z
DTSTART:20240304
DTEND:20240305
LOCATION:
SUMMARY:Beauvoir\,  the National Cathedral Elementary School (Washington DC)
DESCRIPTION:Beauvoir\,  the National Cathedral Elementary School (Washingto
 n DC)\nhttps://chasingchildhooddoc.com/events/beauvoir-the-national-cathedr
 al-elementary-school-washington-dc-3/
URL:https://chasingchildhooddoc.com/events/beauvoir-the-national-cathedral-elementary-school-washington-dc-3/
END:VEVENT
END:VCALENDAR