BEGIN:VCALENDAR
VERSION:2.0
PRODID:-//eventon.com NONSGML v1.0//EN
CALSCALE:GREGORIAN
METHOD:PUBLISH
BEGIN:VEVENT
UID:69ea3b00b8c09
DTSTAMP:20260423T153008Z
DTSTART:20240222
DTEND:20240223
LOCATION:
SUMMARY:Flagstaff Unified School District (Flagstaff\,  AZ)
DESCRIPTION:Flagstaff Unified School District (Flagstaff\,  AZ)\nhttps://ch
 asingchildhooddoc.com/events/flagstaff-unified-school-district-flagstaff-az
 -2/
URL:https://chasingchildhooddoc.com/events/flagstaff-unified-school-district-flagstaff-az-2/
END:VEVENT
END:VCALENDAR