BEGIN:VCALENDAR
VERSION:2.0
PRODID:-//eventon.com NONSGML v1.0//EN
CALSCALE:GREGORIAN
METHOD:PUBLISH
BEGIN:VEVENT
UID:69ea3aaa68cbe
DTSTAMP:20260423T152842Z
DTSTART:20240215
DTEND:20240216
LOCATION:
SUMMARY:Chris Walsh Center at Framingham State University (Framingham\,  MA)
DESCRIPTION:Chris Walsh Center at Framingham State University (Framingham\,
   MA)\nhttps://chasingchildhooddoc.com/events/chris-walsh-center-at-framing
 ham-state-university-framingham-ma-2/
URL:https://chasingchildhooddoc.com/events/chris-walsh-center-at-framingham-state-university-framingham-ma-2/
END:VEVENT
END:VCALENDAR