BEGIN:VCALENDAR
VERSION:2.0
PRODID:-//eventon.com NONSGML v1.0//EN
CALSCALE:GREGORIAN
METHOD:PUBLISH
BEGIN:VEVENT
UID:69ea3afc2e10f
DTSTAMP:20260423T153004Z
DTSTART:20240212
DTEND:20240213
LOCATION:
SUMMARY:Oakton College (Skokie\,  IL)
DESCRIPTION:Oakton College (Skokie\,  IL)\nhttps://chasingchildhooddoc.com/
 events/oakton-college-skokie-il-2/
URL:https://chasingchildhooddoc.com/events/oakton-college-skokie-il-2/
END:VEVENT
END:VCALENDAR