BEGIN:VCALENDAR
VERSION:2.0
PRODID:-//eventon.com NONSGML v1.0//EN
CALSCALE:GREGORIAN
METHOD:PUBLISH
BEGIN:VEVENT
UID:69ea3b45111f6
DTSTAMP:20260423T153117Z
DTSTART:20240201
DTEND:20240202
LOCATION:
SUMMARY:Napa Valley Nursery School (Napa\,  CA)
DESCRIPTION:Napa Valley Nursery School (Napa\,  CA)\nhttps://chasingchildho
 oddoc.com/events/napa-valley-nursery-school-napa-ca-2/
URL:https://chasingchildhooddoc.com/events/napa-valley-nursery-school-napa-ca-2/
END:VEVENT
END:VCALENDAR