BEGIN:VCALENDAR
VERSION:2.0
PRODID:-//eventon.com NONSGML v1.0//EN
CALSCALE:GREGORIAN
METHOD:PUBLISH
BEGIN:VEVENT
UID:69ea3af8df9b2
DTSTAMP:20260423T153000Z
DTSTART:20240127
DTEND:20240128
LOCATION:
SUMMARY:Holy Family Catholic Church (Brentwood\,  CA)
DESCRIPTION:Holy Family Catholic Church (Brentwood\,  CA)\nhttps://chasingc
 hildhooddoc.com/events/holy-family-catholic-church-brentwood-ca/
URL:https://chasingchildhooddoc.com/events/holy-family-catholic-church-brentwood-ca/
END:VEVENT
END:VCALENDAR