BEGIN:VCALENDAR
VERSION:2.0
PRODID:-//eventon.com NONSGML v1.0//EN
CALSCALE:GREGORIAN
METHOD:PUBLISH
BEGIN:VEVENT
UID:69ea3ad086cd1
DTSTAMP:20260423T152920Z
DTSTART:20240124
DTEND:20240125
LOCATION:
SUMMARY:Old Donation Epsicopal Day School (Virginia Beach\,  VA)
DESCRIPTION:Old Donation Epsicopal Day School (Virginia Beach\,  VA)\nhttps
 ://chasingchildhooddoc.com/events/old-donation-epsicopal-day-school-virgini
 a-beach-va-2/
URL:https://chasingchildhooddoc.com/events/old-donation-epsicopal-day-school-virginia-beach-va-2/
END:VEVENT
END:VCALENDAR