BEGIN:VCALENDAR
VERSION:2.0
PRODID:-//eventon.com NONSGML v1.0//EN
CALSCALE:GREGORIAN
METHOD:PUBLISH
BEGIN:VEVENT
UID:69ea3b05e247f
DTSTAMP:20260423T153013Z
DTSTART:20240123
DTEND:20240124
LOCATION:
SUMMARY:Laurel School Upper Campus (Menlo Park\,  CA)
DESCRIPTION:Laurel School Upper Campus (Menlo Park\,  CA)\nhttps://chasingc
 hildhooddoc.com/events/laurel-school-upper-campus-menlo-park-ca-2/
URL:https://chasingchildhooddoc.com/events/laurel-school-upper-campus-menlo-park-ca-2/
END:VEVENT
END:VCALENDAR