BEGIN:VCALENDAR
VERSION:2.0
PRODID:-//eventon.com NONSGML v1.0//EN
CALSCALE:GREGORIAN
METHOD:PUBLISH
BEGIN:VEVENT
UID:69ea3b44aa853
DTSTAMP:20260423T153116Z
DTSTART:20240117
DTEND:20240118
LOCATION:
SUMMARY:Manhasset CASA (Manhasset\,  NY)
DESCRIPTION:Manhasset CASA (Manhasset\,  NY)\nhttps://chasingchildhooddoc.c
 om/events/manhasset-casa-manhasset-ny-2/
URL:https://chasingchildhooddoc.com/events/manhasset-casa-manhasset-ny-2/
END:VEVENT
END:VCALENDAR