BEGIN:VCALENDAR
VERSION:2.0
PRODID:-//eventon.com NONSGML v1.0//EN
CALSCALE:GREGORIAN
METHOD:PUBLISH
BEGIN:VEVENT
UID:69ea3b44b67b8
DTSTAMP:20260423T153116Z
DTSTART:20240116
DTEND:20240117
LOCATION:
SUMMARY:Darien Library (Darien\,  CT)
DESCRIPTION:Darien Library (Darien\,  CT)\nhttps://chasingchildhooddoc.com/
 events/darien-library-darien-ct-2/
URL:https://chasingchildhooddoc.com/events/darien-library-darien-ct-2/
END:VEVENT
END:VCALENDAR