BEGIN:VCALENDAR
VERSION:2.0
PRODID:-//eventon.com NONSGML v1.0//EN
CALSCALE:GREGORIAN
METHOD:PUBLISH
BEGIN:VEVENT
UID:69ea3aff4285f
DTSTAMP:20260423T153007Z
DTSTART:20240115
DTEND:20240116
LOCATION:
SUMMARY:The Valley School (Seattle\,  WA)
DESCRIPTION:The Valley School (Seattle\,  WA)\nhttps://chasingchildhooddoc.
 com/events/the-valley-school-seattle-wa/
URL:https://chasingchildhooddoc.com/events/the-valley-school-seattle-wa/
END:VEVENT
END:VCALENDAR