BEGIN:VCALENDAR
VERSION:2.0
PRODID:-//eventon.com NONSGML v1.0//EN
CALSCALE:GREGORIAN
METHOD:PUBLISH
BEGIN:VEVENT
UID:69ea3aff27ba8
DTSTAMP:20260423T153007Z
DTSTART:20240114
DTEND:20240115
LOCATION:
SUMMARY:ESCWR (Burton and Middlefield\,  OH)
DESCRIPTION:ESCWR (Burton and Middlefield\,  OH)\nhttps://chasingchildhoodd
 oc.com/events/escwr-burton-and-middlefield-oh-2/
URL:https://chasingchildhooddoc.com/events/escwr-burton-and-middlefield-oh-2/
END:VEVENT
END:VCALENDAR