BEGIN:VCALENDAR
VERSION:2.0
PRODID:-//eventon.com NONSGML v1.0//EN
CALSCALE:GREGORIAN
METHOD:PUBLISH
BEGIN:VEVENT
UID:69ea3a83c98a1
DTSTAMP:20260423T152803Z
DTSTART:20240105
DTEND:20240106
LOCATION:
SUMMARY:White Rock Montessori (Dallas\,  TX)
DESCRIPTION:White Rock Montessori (Dallas\,  TX)\nhttps://chasingchildhoodd
 oc.com/events/white-rock-montessori-dallas-tx-2/
URL:https://chasingchildhooddoc.com/events/white-rock-montessori-dallas-tx-2/
END:VEVENT
END:VCALENDAR