BEGIN:VCALENDAR
VERSION:2.0
PRODID:-//eventon.com NONSGML v1.0//EN
CALSCALE:GREGORIAN
METHOD:PUBLISH
BEGIN:VEVENT
UID:69ea3aa420d3b
DTSTAMP:20260423T152836Z
DTSTART:20240102
DTEND:20240103
LOCATION:
SUMMARY:Margaret River Primary School (Australia)
DESCRIPTION:Margaret River Primary School (Australia)\nhttps://chasingchild
 hooddoc.com/events/margaret-river-primary-school-australia/
URL:https://chasingchildhooddoc.com/events/margaret-river-primary-school-australia/
END:VEVENT
END:VCALENDAR