BEGIN:VCALENDAR
VERSION:2.0
PRODID:-//eventon.com NONSGML v1.0//EN
CALSCALE:GREGORIAN
METHOD:PUBLISH
BEGIN:VEVENT
UID:69ea3ad134276
DTSTAMP:20260423T152921Z
DTSTART:20231218
DTEND:20231219
LOCATION:
SUMMARY:Dr Marieva Puig (Puerto Rico)
DESCRIPTION:Dr Marieva Puig (Puerto Rico)\nhttps://chasingchildhooddoc.com/
 events/dr-marieva-puig-puerto-rico/
URL:https://chasingchildhooddoc.com/events/dr-marieva-puig-puerto-rico/
END:VEVENT
END:VCALENDAR