BEGIN:VCALENDAR
VERSION:2.0
PRODID:-//eventon.com NONSGML v1.0//EN
CALSCALE:GREGORIAN
METHOD:PUBLISH
BEGIN:VEVENT
UID:69ea3a98d6bed
DTSTAMP:20260423T152824Z
DTSTART:20231212
DTEND:20231213
LOCATION:
SUMMARY:San Marcos Parent Child Workshop (Santa Barbara\,  CA)
DESCRIPTION:San Marcos Parent Child Workshop (Santa Barbara\,  CA)\nhttps:/
 /chasingchildhooddoc.com/events/san-marcos-parent-child-workshop-santa-barb
 ara-ca-2/
URL:https://chasingchildhooddoc.com/events/san-marcos-parent-child-workshop-santa-barbara-ca-2/
END:VEVENT
END:VCALENDAR