BEGIN:VCALENDAR
VERSION:2.0
PRODID:-//eventon.com NONSGML v1.0//EN
CALSCALE:GREGORIAN
METHOD:PUBLISH
BEGIN:VEVENT
UID:69ea3a07d17d1
DTSTAMP:20260423T152559Z
DTSTART:20231205
DTEND:20231206
LOCATION:
SUMMARY:Austin Home Educator Group (Austin\,  TX)
DESCRIPTION:Austin Home Educator Group (Austin\,  TX)\nhttps://chasingchild
 hooddoc.com/events/austin-home-educator-group-austin-tx-2/
URL:https://chasingchildhooddoc.com/events/austin-home-educator-group-austin-tx-2/
END:VEVENT
END:VCALENDAR