BEGIN:VCALENDAR
VERSION:2.0
PRODID:-//eventon.com NONSGML v1.0//EN
CALSCALE:GREGORIAN
METHOD:PUBLISH
BEGIN:VEVENT
UID:69ea3b044d451
DTSTAMP:20260423T153012Z
DTSTART:20231205
DTEND:20231206
LOCATION:
SUMMARY:Crescent School District 313 (Joyce\,  WA)
DESCRIPTION:Crescent School District 313 (Joyce\,  WA)\nhttps://chasingchil
 dhooddoc.com/events/crescent-school-district-313-joyce-wa/
URL:https://chasingchildhooddoc.com/events/crescent-school-district-313-joyce-wa/
END:VEVENT
END:VCALENDAR