BEGIN:VCALENDAR
VERSION:2.0
PRODID:-//eventon.com NONSGML v1.0//EN
CALSCALE:GREGORIAN
METHOD:PUBLISH
BEGIN:VEVENT
UID:69ea3a9c56332
DTSTAMP:20260423T152828Z
DTSTART:20231201
DTEND:20231202
LOCATION:
SUMMARY:Murray-LaSaine Montessori (Charleston\,  SC)
DESCRIPTION:Murray-LaSaine Montessori (Charleston\,  SC)\nhttps://chasingch
 ildhooddoc.com/events/murray-lasaine-montessori-charleston-sc-2/
URL:https://chasingchildhooddoc.com/events/murray-lasaine-montessori-charleston-sc-2/
END:VEVENT
END:VCALENDAR