BEGIN:VCALENDAR
VERSION:2.0
PRODID:-//eventon.com NONSGML v1.0//EN
CALSCALE:GREGORIAN
METHOD:PUBLISH
BEGIN:VEVENT
UID:69ea3a9927117
DTSTAMP:20260423T152825Z
DTSTART:20231130
DTEND:20231201
LOCATION:
SUMMARY:Temple B'nai Jeshurun (Short Hills\,  NJ)
DESCRIPTION:Temple B'nai Jeshurun (Short Hills\,  NJ)\nhttps://chasingchild
 hooddoc.com/events/temple-bnai-jeshurun-short-hills-nj-2/
URL:https://chasingchildhooddoc.com/events/temple-bnai-jeshurun-short-hills-nj-2/
END:VEVENT
END:VCALENDAR