BEGIN:VCALENDAR
VERSION:2.0
PRODID:-//eventon.com NONSGML v1.0//EN
CALSCALE:GREGORIAN
METHOD:PUBLISH
BEGIN:VEVENT
UID:69ea3b02cdd78
DTSTAMP:20260423T153010Z
DTSTART:20231125
DTEND:20231126
LOCATION:
SUMMARY:Parent/Caregiver Education Group (Iowa City\,  IA)
DESCRIPTION:Parent/Caregiver Education Group (Iowa City\,  IA)\nhttps://cha
 singchildhooddoc.com/events/parent-caregiver-education-group-iowa-city-ia-2
 /
URL:https://chasingchildhooddoc.com/events/parent-caregiver-education-group-iowa-city-ia-2/
END:VEVENT
END:VCALENDAR