BEGIN:VCALENDAR
VERSION:2.0
PRODID:-//eventon.com NONSGML v1.0//EN
CALSCALE:GREGORIAN
METHOD:PUBLISH
BEGIN:VEVENT
UID:69ea3a979c998
DTSTAMP:20260423T152823Z
DTSTART:20231118
DTEND:20231119
LOCATION:
SUMMARY:Rochester Area Community Foundation Initiatives (Rochester\,  NY)
DESCRIPTION:Rochester Area Community Foundation Initiatives (Rochester\,  N
 Y)\nhttps://chasingchildhooddoc.com/events/rochester-area-community-foundat
 ion-initiatives-rochester-ny-2/
URL:https://chasingchildhooddoc.com/events/rochester-area-community-foundation-initiatives-rochester-ny-2/
END:VEVENT
END:VCALENDAR