BEGIN:VCALENDAR
VERSION:2.0
PRODID:-//eventon.com NONSGML v1.0//EN
CALSCALE:GREGORIAN
METHOD:PUBLISH
BEGIN:VEVENT
UID:69ea3af291015
DTSTAMP:20260423T152954Z
DTSTART:20231107
DTEND:20231108
LOCATION:
SUMMARY:New Mexico Community Group (Albuquerque\,  NM)
DESCRIPTION:New Mexico Community Group (Albuquerque\,  NM)\nhttps://chasing
 childhooddoc.com/events/new-mexico-community-group-albuquerque-nm-2/
URL:https://chasingchildhooddoc.com/events/new-mexico-community-group-albuquerque-nm-2/
END:VEVENT
END:VCALENDAR