BEGIN:VCALENDAR
VERSION:2.0
PRODID:-//eventon.com NONSGML v1.0//EN
CALSCALE:GREGORIAN
METHOD:PUBLISH
BEGIN:VEVENT
UID:69ea3af360d52
DTSTAMP:20260423T152955Z
DTSTART:20231105
DTEND:20231106
LOCATION:
SUMMARY:KIPP So Cal (Los Angeles\,  CA)
DESCRIPTION:KIPP So Cal (Los Angeles\,  CA)\nhttps://chasingchildhooddoc.co
 m/events/kipp-so-cal-los-angeles-ca-2/
URL:https://chasingchildhooddoc.com/events/kipp-so-cal-los-angeles-ca-2/
END:VEVENT
END:VCALENDAR