BEGIN:VCALENDAR
VERSION:2.0
PRODID:-//eventon.com NONSGML v1.0//EN
CALSCALE:GREGORIAN
METHOD:PUBLISH
BEGIN:VEVENT
UID:69ea3ad25d6e8
DTSTAMP:20260423T152922Z
DTSTART:20231104
DTEND:20231105
LOCATION:
SUMMARY:Three Rivers Community College (Norwich\,  CT)
DESCRIPTION:Three Rivers Community College (Norwich\,  CT)\nhttps://chasing
 childhooddoc.com/events/three-rivers-community-college-norwich-ct-2/
URL:https://chasingchildhooddoc.com/events/three-rivers-community-college-norwich-ct-2/
END:VEVENT
END:VCALENDAR