BEGIN:VCALENDAR
VERSION:2.0
PRODID:-//eventon.com NONSGML v1.0//EN
CALSCALE:GREGORIAN
METHOD:PUBLISH
BEGIN:VEVENT
UID:69ea39d8edd1c
DTSTAMP:20260423T152512Z
DTSTART:20231103
DTEND:20231104
LOCATION:
SUMMARY:Pilgrim United Church of Christ (Fond du Lac\,  WI)
DESCRIPTION:Pilgrim United Church of Christ (Fond du Lac\,  WI)\nhttps://ch
 asingchildhooddoc.com/events/pilgrim-united-church-of-christ-fond-du-lac-wi
 -2/
URL:https://chasingchildhooddoc.com/events/pilgrim-united-church-of-christ-fond-du-lac-wi-2/
END:VEVENT
END:VCALENDAR