BEGIN:VCALENDAR
VERSION:2.0
PRODID:-//eventon.com NONSGML v1.0//EN
CALSCALE:GREGORIAN
METHOD:PUBLISH
BEGIN:VEVENT
UID:69ea3a9a27777
DTSTAMP:20260423T152826Z
DTSTART:20231027
DTEND:20231028
LOCATION:
SUMMARY:Donkin School (Canada)
DESCRIPTION:Donkin School (Canada)\nhttps://chasingchildhooddoc.com/events/
 donkin-school-canada/
URL:https://chasingchildhooddoc.com/events/donkin-school-canada/
END:VEVENT
END:VCALENDAR