BEGIN:VCALENDAR
VERSION:2.0
PRODID:-//eventon.com NONSGML v1.0//EN
CALSCALE:GREGORIAN
METHOD:PUBLISH
BEGIN:VEVENT
UID:69ea3a4f33344
DTSTAMP:20260423T152711Z
DTSTART:20231019
DTEND:20231020
LOCATION:
SUMMARY:Indiana University - Purdue University Indianapolis (Indianapolis\,  IN)
DESCRIPTION:Indiana University - Purdue University Indianapolis (Indianapol
 is\,  IN)\nhttps://chasingchildhooddoc.com/events/indiana-university-purdue
 -university-indianapolis-indianapolis-in-2/
URL:https://chasingchildhooddoc.com/events/indiana-university-purdue-university-indianapolis-indianapolis-in-2/
END:VEVENT
END:VCALENDAR