BEGIN:VCALENDAR
VERSION:2.0
PRODID:-//eventon.com NONSGML v1.0//EN
CALSCALE:GREGORIAN
METHOD:PUBLISH
BEGIN:VEVENT
UID:69ea3acf1d9b1
DTSTAMP:20260423T152919Z
DTSTART:20231008
DTEND:20231009
LOCATION:
SUMMARY:Texas Holistic Educators (Houston\,  TX)
DESCRIPTION:Texas Holistic Educators (Houston\,  TX)\nhttps://chasingchildh
 ooddoc.com/events/texas-holistic-educators-houston-tx-2/
URL:https://chasingchildhooddoc.com/events/texas-holistic-educators-houston-tx-2/
END:VEVENT
END:VCALENDAR