BEGIN:VCALENDAR
VERSION:2.0
PRODID:-//eventon.com NONSGML v1.0//EN
CALSCALE:GREGORIAN
METHOD:PUBLISH
BEGIN:VEVENT
UID:69ea3aedb2260
DTSTAMP:20260423T152949Z
DTSTART:20231007
DTEND:20231008
LOCATION:
SUMMARY:Raising A Reader Aspen to Parachute (Glenwood Springs\,  CO)
DESCRIPTION:Raising A Reader Aspen to Parachute (Glenwood Springs\,  CO)\nh
 ttps://chasingchildhooddoc.com/events/raising-a-reader-aspen-to-parachute-g
 lenwood-springs-co-2/
URL:https://chasingchildhooddoc.com/events/raising-a-reader-aspen-to-parachute-glenwood-springs-co-2/
END:VEVENT
END:VCALENDAR