BEGIN:VCALENDAR
VERSION:2.0
PRODID:-//eventon.com NONSGML v1.0//EN
CALSCALE:GREGORIAN
METHOD:PUBLISH
BEGIN:VEVENT
UID:69ea3aaa1721f
DTSTAMP:20260423T152842Z
DTSTART:20231006
DTEND:20231007
LOCATION:
SUMMARY:Saint George\,  UT Homeschool Group (Saint George\,  UT)
DESCRIPTION:Saint George\,  UT Homeschool Group (Saint George\,  UT)\nhttps
 ://chasingchildhooddoc.com/events/saint-george-ut-homeschool-group-saint-ge
 orge-ut-2/
URL:https://chasingchildhooddoc.com/events/saint-george-ut-homeschool-group-saint-george-ut-2/
END:VEVENT
END:VCALENDAR