BEGIN:VCALENDAR
VERSION:2.0
PRODID:-//eventon.com NONSGML v1.0//EN
CALSCALE:GREGORIAN
METHOD:PUBLISH
BEGIN:VEVENT
UID:69ea3afa44344
DTSTAMP:20260423T153002Z
DTSTART:20231005
DTEND:20231006
LOCATION:
SUMMARY:Killingworth Elementary School (Killingworth\,  CT)
DESCRIPTION:Killingworth Elementary School (Killingworth\,  CT)\nhttps://ch
 asingchildhooddoc.com/events/killingworth-elementary-school-killingworth-ct
 -2/
URL:https://chasingchildhooddoc.com/events/killingworth-elementary-school-killingworth-ct-2/
END:VEVENT
END:VCALENDAR