BEGIN:VCALENDAR
VERSION:2.0
PRODID:-//eventon.com NONSGML v1.0//EN
CALSCALE:GREGORIAN
METHOD:PUBLISH
BEGIN:VEVENT
UID:69ea4d1d2678d
DTSTAMP:20260423T164725Z
DTSTART:20231004
DTEND:20231005
LOCATION:
SUMMARY:Ramapo College of New Jersey (Mahwah\,  NJ)
DESCRIPTION:Ramapo College of New Jersey (Mahwah\,  NJ)\nhttps://chasingchi
 ldhooddoc.com/events/ramapo-college-of-new-jersey-mahwah-nj-3/
URL:https://chasingchildhooddoc.com/events/ramapo-college-of-new-jersey-mahwah-nj-3/
END:VEVENT
END:VCALENDAR