BEGIN:VCALENDAR
VERSION:2.0
PRODID:-//eventon.com NONSGML v1.0//EN
CALSCALE:GREGORIAN
METHOD:PUBLISH
BEGIN:VEVENT
UID:69ea3aa580155
DTSTAMP:20260423T152837Z
DTSTART:20231002
DTEND:20231003
LOCATION:
SUMMARY:Science of Reading (Clinton\,  TN)
DESCRIPTION:Science of Reading (Clinton\,  TN)\nhttps://chasingchildhooddoc
 .com/events/science-of-reading-clinton-tn/
URL:https://chasingchildhooddoc.com/events/science-of-reading-clinton-tn/
END:VEVENT
END:VCALENDAR