BEGIN:VCALENDAR
VERSION:2.0
PRODID:-//eventon.com NONSGML v1.0//EN
CALSCALE:GREGORIAN
METHOD:PUBLISH
BEGIN:VEVENT
UID:69ea3aa95835a
DTSTAMP:20260423T152841Z
DTSTART:20230929
DTEND:20230930
LOCATION:
SUMMARY:Explore Children's Museum of Sun Prairie (Sun Prairie\,  WI)
DESCRIPTION:Explore Children's Museum of Sun Prairie (Sun Prairie\,  WI)\nh
 ttps://chasingchildhooddoc.com/events/explore-childrens-museum-of-sun-prair
 ie-sun-prairie-wi-2/
URL:https://chasingchildhooddoc.com/events/explore-childrens-museum-of-sun-prairie-sun-prairie-wi-2/
END:VEVENT
END:VCALENDAR