BEGIN:VCALENDAR
VERSION:2.0
PRODID:-//eventon.com NONSGML v1.0//EN
CALSCALE:GREGORIAN
METHOD:PUBLISH
BEGIN:VEVENT
UID:69ea3aa656d63
DTSTAMP:20260423T152838Z
DTSTART:20230928
DTEND:20230929
LOCATION:
SUMMARY:Attucks Middle School (Hollywood\,  FL)
DESCRIPTION:Attucks Middle School (Hollywood\,  FL)\nhttps://chasingchildho
 oddoc.com/events/attucks-middle-school-hollywood-fl-2/
URL:https://chasingchildhooddoc.com/events/attucks-middle-school-hollywood-fl-2/
END:VEVENT
END:VCALENDAR