BEGIN:VCALENDAR
VERSION:2.0
PRODID:-//eventon.com NONSGML v1.0//EN
CALSCALE:GREGORIAN
METHOD:PUBLISH
BEGIN:VEVENT
UID:69ea3afda48d9
DTSTAMP:20260423T153005Z
DTSTART:20230901
DTEND:20230902
LOCATION:
SUMMARY:Holy Trinity Parish School (Louisville\,  KY)
DESCRIPTION:Holy Trinity Parish School (Louisville\,  KY)\nhttps://chasingc
 hildhooddoc.com/events/holy-trinity-parish-school-louisville-ky-2/
URL:https://chasingchildhooddoc.com/events/holy-trinity-parish-school-louisville-ky-2/
END:VEVENT
END:VCALENDAR