BEGIN:VCALENDAR
VERSION:2.0
PRODID:-//eventon.com NONSGML v1.0//EN
CALSCALE:GREGORIAN
METHOD:PUBLISH
BEGIN:VEVENT
UID:69ea3aef5ddf6
DTSTAMP:20260423T152951Z
DTSTART:20230712
DTEND:20230713
LOCATION:
SUMMARY:College of Southern Idaho (Twin Falls\,  ID)
DESCRIPTION:College of Southern Idaho (Twin Falls\,  ID)\nhttps://chasingch
 ildhooddoc.com/events/college-of-southern-idaho-twin-falls-id-2/
URL:https://chasingchildhooddoc.com/events/college-of-southern-idaho-twin-falls-id-2/
END:VEVENT
END:VCALENDAR