BEGIN:VCALENDAR
VERSION:2.0
PRODID:-//eventon.com NONSGML v1.0//EN
CALSCALE:GREGORIAN
METHOD:PUBLISH
BEGIN:VEVENT
UID:69ea3a9b8d3d3
DTSTAMP:20260423T152827Z
DTSTART:20230617
DTEND:20230618
LOCATION:
SUMMARY:Project Most (East Hampton\,  NY)
DESCRIPTION:Project Most (East Hampton\,  NY)\nhttps://chasingchildhooddoc.
 com/events/project-most-east-hampton-ny-2/
URL:https://chasingchildhooddoc.com/events/project-most-east-hampton-ny-2/
END:VEVENT
END:VCALENDAR