BEGIN:VCALENDAR
VERSION:2.0
PRODID:-//eventon.com NONSGML v1.0//EN
CALSCALE:GREGORIAN
METHOD:PUBLISH
BEGIN:VEVENT
UID:69ea3ad215927
DTSTAMP:20260423T152922Z
DTSTART:20230615
DTEND:20230616
LOCATION:
SUMMARY:Peter Pratt Nature School (New Milford\,  CT)
DESCRIPTION:Peter Pratt Nature School (New Milford\,  CT)\nhttps://chasingc
 hildhooddoc.com/events/peter-pratt-nature-school-new-milford-ct/
URL:https://chasingchildhooddoc.com/events/peter-pratt-nature-school-new-milford-ct/
END:VEVENT
END:VCALENDAR