BEGIN:VCALENDAR
VERSION:2.0
PRODID:-//eventon.com NONSGML v1.0//EN
CALSCALE:GREGORIAN
METHOD:PUBLISH
BEGIN:VEVENT
UID:69ea3a98ba495
DTSTAMP:20260423T152824Z
DTSTART:20230612
DTEND:20230613
LOCATION:
SUMMARY:Redwood Schools (Chicago\,  IL)
DESCRIPTION:Redwood Schools (Chicago\,  IL)\nhttps://chasingchildhooddoc.co
 m/events/redwood-schools-chicago-il-2/
URL:https://chasingchildhooddoc.com/events/redwood-schools-chicago-il-2/
END:VEVENT
END:VCALENDAR