BEGIN:VCALENDAR
VERSION:2.0
PRODID:-//eventon.com NONSGML v1.0//EN
CALSCALE:GREGORIAN
METHOD:PUBLISH
BEGIN:VEVENT
UID:69ea3afdabf31
DTSTAMP:20260423T153005Z
DTSTART:20230601
DTEND:20230602
LOCATION:
SUMMARY:river st joe (buchanan\,  MI)
DESCRIPTION:river st joe (buchanan\,  MI)\nhttps://chasingchildhooddoc.com/
 events/river-st-joe-buchanan-mi-2/
URL:https://chasingchildhooddoc.com/events/river-st-joe-buchanan-mi-2/
END:VEVENT
END:VCALENDAR