BEGIN:VCALENDAR
VERSION:2.0
PRODID:-//eventon.com NONSGML v1.0//EN
CALSCALE:GREGORIAN
METHOD:PUBLISH
BEGIN:VEVENT
UID:69ea3afc3f765
DTSTAMP:20260423T153004Z
DTSTART:20230529
DTEND:20230530
LOCATION:
SUMMARY:The International School of Monaco (Monaco)
DESCRIPTION:The International School of Monaco (Monaco)\nhttps://chasingchi
 ldhooddoc.com/events/the-international-school-of-monaco-monaco/
URL:https://chasingchildhooddoc.com/events/the-international-school-of-monaco-monaco/
END:VEVENT
END:VCALENDAR